BEGIN:VCALENDAR
VERSION:2.0
PRODID:-//https://artinthecountryside.co.uk///NONSGML kigkonsult.se iCalcreator 2.10.15//
METHOD:PUBLISH
BEGIN:VEVENT
UID:20260422T144929UTC-95291wI0HR@https://artinthecountryside.co.uk/
DTSTAMP:20260422T144929Z
DESCRIPTION:Private View for Artists in the Countryside returns in 2025 for
  a fabulous exhibition of local art. £10 entrance fee payable on the door.
  https://artinthecountryside.co.uk/events/past-events/event/6-artists-in-t
 he-countryside
DTSTART:20250607T090000Z
DTEND:20250607T170000Z
LOCATION:Newton Purcell Village Hall (Newton Purcell)
SUMMARY:Artists in the Countryside
URL:https://artinthecountryside.co.uk/events/past-events/event/6-artists-in
 -the-countryside
END:VEVENT
END:VCALENDAR
