BEGIN:VCALENDAR
VERSION:2.0
PRODID:-//https://artinthecountryside.co.uk///NONSGML kigkonsult.se iCalcreator 2.10.15//
METHOD:PUBLISH
BEGIN:VEVENT
UID:20260422T144006UTC-6542PKnffA@https://artinthecountryside.co.uk/
DTSTAMP:20260422T144006Z
DESCRIPTION:Private View for Artists in the Countryside returns in 2025 for
  a fabulous exhibition of local art. £10 entrance fee payable on the door.
  https://artinthecountryside.co.uk/events/past-events/event/5-private-view
 -artists-in-the-countryside
DTSTART:20250606T170000Z
DTEND:20250606T200000Z
LOCATION:Newton Purcell Village Hall (Newton Purcell)
SUMMARY:Private View - Artists in the Countryside
URL:https://artinthecountryside.co.uk/events/past-events/event/5-private-vi
 ew-artists-in-the-countryside
END:VEVENT
END:VCALENDAR
