BEGIN:VCALENDAR
VERSION:2.0
PRODID:-//https://artinthecountryside.co.uk///NONSGML kigkonsult.se iCalcreator 2.10.15//
METHOD:PUBLISH
BEGIN:VEVENT
UID:20260422T145412UTC-4520xTfwZ7@https://artinthecountryside.co.uk/
DTSTAMP:20260422T145412Z
DESCRIPTION:Newton Purcell Summer Fete returns in 2025 for a fabulous selec
 tion activities including vintage cars\, contry games\, art tea shop and m
 uch more. https://artinthecountryside.co.uk/events/past-events/event/4-new
 ton-purcell-summer-fete
DTSTART:20250607T110000Z
DTEND:20250607T160000Z
LOCATION:Newton Purcell Village Hall (Newton Purcell)
SUMMARY:Newton Purcell Summer Fete
URL:https://artinthecountryside.co.uk/events/past-events/event/4-newton-pur
 cell-summer-fete
END:VEVENT
END:VCALENDAR
