BEGIN:VCALENDAR
VERSION:2.0
PRODID:-//https://artinthecountryside.co.uk///NONSGML kigkonsult.se iCalcreator 2.10.15//
METHOD:PUBLISH
BEGIN:VEVENT
UID:20260422T150041UTC-8798Urn7Jj@https://artinthecountryside.co.uk/
DTSTAMP:20260422T150041Z
DESCRIPTION:Christmas is coming!10am till 5pm on Saturday 30thNovember 2024
  …and so is the Christmas Fair in Newton Purcell Please come along for Lim
 ited Edition Christmas Cards\; Seasonal Candles\; Gifts and FlowersAnd muc
 h more...Join us for mince pies and Mulled wine all day\n https://artinthe
 countryside.co.uk/events/past-events/event/1-christmas-is-coming-newton-pu
 rcell-christmas-fair
DTSTART:20241130T100000Z
DTEND:20241130T170000Z
LOCATION:Newton Purcell Village Hall (Newton Purcell)
SUMMARY:Christmas is Coming! Newton Purcell Christmas Fair
URL:https://artinthecountryside.co.uk/events/past-events/event/1-christmas-
 is-coming-newton-purcell-christmas-fair
END:VEVENT
END:VCALENDAR
