BEGIN:VCALENDAR
VERSION:2.0
PRODID:-//https://artinthecountryside.co.uk///NONSGML kigkonsult.se iCalcreator 2.10.15//
METHOD:PUBLISH
BEGIN:VEVENT
UID:20260422T132816UTC-9865dHH65V@https://artinthecountryside.co.uk/
DTSTAMP:20260422T132816Z
DESCRIPTION:Artists this year include:\n\nMiranda Markham with her oil pain
 tings and watercolours on board and paper\,\nGraham Perryman with his wild
 life and landscape photography\,\nAlexandra Wright with her beautiful mixe
 d media and watercolour paintings.\nIsobel Rymer with painted slates and l
 ovely paintings\nVivien Willacy and her coloured pencils and pastels\nKare
 n Joy landscapes from Oxfordshire\nPolly Pincott with her great fish and d
 og sketches\n\nProceedings commence on Friday 12th June with a Private Vie
 w\, starting at 6pm with a complimenary glass of fizz\, we'll also have ca
 nopies and an asparagus BBQ to nibble on. All for a great price of £10 per
  ticket \, paid for on the door on arrival.\nOn Saturday\, doors open to t
 he public from 10am until 6pm\, with refreshments and lots of art to see a
 nd buy.\nThis year we are also running a Paint the Countryside event all d
 ay Saturday\, weather permiiting). We have 2 categories Junior (Upto 17 ye
 ars old) and Adult (17 going 80+!)\nTalented local award winning artist Ba
 rry Miller and Polly Pincott (finalist in Portrait Artist of the Year) wil
 l be our guest judges.\nRegistration opens soon....watch this space.\n See
  below for more information\n https://artinthecountryside.co.uk/events/eve
 nt/7-artists-in-the-countryside-2026
DTSTART:20260613T090000Z
DTEND:20260613T170000Z
LOCATION:Newton Purcell Village Hall (Newton Purcell)
SUMMARY:Artists in the Countryside 2026
URL:https://artinthecountryside.co.uk/events/event/7-artists-in-the-country
 side-2026
END:VEVENT
END:VCALENDAR
